BEGIN:VCALENDAR
VERSION:2.0
PRODID:-//Eventin//Event Calendar//EN
CALSCALE:GREGORIAN
METHOD:PUBLISH
BEGIN:VEVENT
UID:b4a1af18fe65805381b0b5e6541607fe@discamp.space
SUMMARY:MADE IN VERITAS❤️
DESCRIPTION:
LOCATION:Veritas University Stadium
DTSTAMP:20260421T143043Z
DTSTART:20260425T170000Z
DTEND:20260425T220000Z
END:VEVENT
END:VCALENDAR
