BEGIN:VCALENDAR
VERSION:2.0
PRODID:-//Eventin//Event Calendar//EN
CALSCALE:GREGORIAN
METHOD:PUBLISH
BEGIN:VEVENT
UID:47a94f6adf9d1da3797366f4794c1f5f@discamp.space
SUMMARY:🌸BLOOM AND BRUNCH: Award Ceremony🌸
DESCRIPTION:🌸 BLOOM & BRUNCH: Award Ceremony 🌸✨ An Unforgettable Ex
 perience Like Never Before!Get ready for a pulsating brunch filled with gre
 at food\, music\, and celebration. 🌸✨
LOCATION:Pharmacy Faculty
DTSTAMP:20260421T130425Z
DTSTART:20260502T120000Z
DTEND:20260502T170000Z
END:VEVENT
END:VCALENDAR
